BEGIN:VCALENDAR
VERSION:2.0
PRODID:-//ChamberMaster//Event Calendar 2.0//EN
METHOD:PUBLISH
X-PUBLISHED-TTL:P3D
REFRESH-INTERVAL:P3D
CALSCALE:GREGORIAN
BEGIN:VEVENT
DTSTART:20260624T120000Z
DTEND:20260624T180000Z
X-MICROSOFT-CDO-ALLDAYEVENT:FALSE
SUMMARY:Golf Classic to benefit Shawnee Community Services
DESCRIPTION:Golf Classic to benefit Shawnee Community Services\n\nWednesday\, June 24\, 2026\n\nFalcon Lakes Golf Course\, Basehor\, KS\n\nGolfers and sponsors opportunities available\n\nFast paced event. 4 person scramble\, modified shotgun start 8am\n\nincludes: 18 holes\, range balls\, cart\, lunch\, tee gift\, goody bag\n\nTrophies & prizes for top three foursomes and on course games\n\nwww.scsks.org/golf-classic to sign up or for more information\n\nor call Sylvia at 913-268-7746
X-ALT-DESC;FMTTYPE=text/html:Golf Classic to benefit Shawnee Community Services<br />\nWednesday\, June 24\, 2026<br />\nFalcon Lakes Golf Course\, Basehor\, KS<br />\nGolfers and sponsors opportunities available<br />\nFast paced event. 4 person scramble\, modified shotgun start 8am<br />\nincludes: 18 holes\, range balls\, cart\, lunch\, tee gift\, goody bag<br />\nTrophies &amp\; prizes for top three foursomes and on course games<br />\nwww.scsks.org/golf-classic to sign up or for more information<br />\nor call Sylvia at 913-268-7746
LOCATION:Falcon Lakes Golf Club 4605 Clubhouse Drive Basehor\, KS 66007
UID:e.2554.6659
SEQUENCE:3
DTSTAMP:20260421T034303Z
URL:https://shawneekschamber-gzcms.preview.gochambermaster.com/events/details/golf-classic-to-benefit-shawnee-community-services-06-25-2025-6659
END:VEVENT

END:VCALENDAR
